BEGIN:VCALENDAR
VERSION:2.0
PRODID:icalendar-ruby
CALSCALE:GREGORIAN
METHOD:PUBLISH
BEGIN:VEVENT
DTSTAMP:20260424T214451Z
UID:10-343663@mtcalvaryfwc.org
DTSTART:20261011T150000Z
DTEND:20261011T180000Z
CLASS:PUBLIC
CREATED:20260424T160645
DESCRIPTION:
LAST-MODIFIED:20260424T160645
LOCATION:
SUMMARY:Sunday Service
URL;VALUE=URI:https://www.mtcalvaryfwc.org/events/sunday-service/2026-10-11
ATTACH;FILENAME=IMG_1454.jpg;FMTTYPE=image/jpeg:https://dq5pwpg1q8ru0.cloud
 front.net/2024/09/06/12/12/53/faeb343a-cb8d-4877-8e6a-98d93916c03c/IMG_145
 4.jpg
END:VEVENT
END:VCALENDAR
