BEGIN:VCALENDAR
VERSION:2.0
PRODID:icalendar-ruby
CALSCALE:GREGORIAN
METHOD:PUBLISH
BEGIN:VEVENT
DTSTAMP:20260424T184737Z
UID:7-343255@mtcalvaryfwc.org
DTSTART:20260922T230000Z
DTEND:20260923T000000Z
CLASS:PUBLIC
CREATED:20260424T132000
DESCRIPTION:Bible study
LAST-MODIFIED:20260424T132000
LOCATION:Hybrid
SUMMARY:Bible study
URL;VALUE=URI:https://www.mtcalvaryfwc.org/events/bible-study/2026-09-22
ATTACH;FILENAME=JUcm.jpg;FMTTYPE=image/jpeg:https://dq5pwpg1q8ru0.cloudfron
 t.net/2025/02/27/04/07/53/f9f1b19f-13f6-4d91-888a-38bbb360b8a3/JUcm.jpg
END:VEVENT
END:VCALENDAR
